BEGIN:VCALENDAR
VERSION:2.0
PRODID:-//Florida Full Throttle Magazine - ECPv6.15.20//NONSGML v1.0//EN
CALSCALE:GREGORIAN
METHOD:PUBLISH
X-WR-CALNAME:Florida Full Throttle Magazine
X-ORIGINAL-URL:https://www.floridafullthrottle.com
X-WR-CALDESC:Events for Florida Full Throttle Magazine
REFRESH-INTERVAL;VALUE=DURATION:PT1H
X-Robots-Tag:noindex
X-PUBLISHED-TTL:PT1H
BEGIN:VTIMEZONE
TZID:UTC
BEGIN:STANDARD
TZOFFSETFROM:+0000
TZOFFSETTO:+0000
TZNAME:UTC
DTSTART:20250101T000000
END:STANDARD
END:VTIMEZONE
BEGIN:VEVENT
DTSTART;TZID=UTC:20260424T100000
DTEND;TZID=UTC:20260424T160000
DTSTAMP:20260424T113257
CREATED:20260313T121743Z
LAST-MODIFIED:20260313T121746Z
UID:10000055-1777024800-1777046400@www.floridafullthrottle.com
SUMMARY:Leesburg Bike Fest - FRIDAY Bike Show
DESCRIPTION:Leesburg Bike Fest – Full Throttle Bike Shows2 Different Shows2 Different Days (Friday & Saturday) \n\n\n\nRegistration 10am – 3pm “Each Day”Awards at 4pm \n\n\n\n$40 Flat RatePer Bike (2 Classes) \n\n\n\nClasses:1 – Bagger2 – HD Non Bagger3 – Metric4 – Trike5 – Mild Custom6 – Ladies7 – Antique8 – Custom / Pro9 – Paint10 – Chopper / Old School11 – Cholo / Vicla12 – Anything Goes \n\n\n\nSponsored by The Fran Haasch Law Group866-LAW-FRAN or www.lawfran.com
URL:https://www.floridafullthrottle.com/event/leesburg-bike-fest-friday-bike-show/
CATEGORIES:Bike Show
ATTACH;FMTTYPE=image/png:https://www.floridafullthrottle.com/wp-content/uploads/2026/03/dc450205-6e3d-4aa5-93a4-83baebbc5acb.png
END:VEVENT
END:VCALENDAR